BEGIN:VCALENDAR
PRODID:-//eluceo/ical//2.0/EN
VERSION:2.0
CALSCALE:GREGORIAN
BEGIN:VEVENT
UID:ec70f722b05c5e564b75e0577299efc2
DTSTAMP:20260422T152154Z
SUMMARY:JCMI Duplicate Bridge
DESCRIPTION:Jewish Federation of Greater Naples\nCommunity Calendar\nhttps:
 //jewishnaples.org/calendar/jcmi-duplicate-bridge\n\nJCMI\n\nDuplicate Bri
 dge
DTSTART;TZID=America/New_York:20171205T130000
DTEND;TZID=America/New_York:20171205T150000
END:VEVENT
END:VCALENDAR
