BEGIN:VCALENDAR
PRODID:-//eluceo/ical//2.0/EN
VERSION:2.0
CALSCALE:GREGORIAN
BEGIN:VEVENT
UID:3e16aab9b58707e3b2cb491c56c27bab
DTSTAMP:20260423T194134Z
SUMMARY:JCMI Cultural Series "The Beetles"
DESCRIPTION:Jewish Federation of Greater Naples\nCommunity Calendar\nhttps:
 //jewishnaples.org/calendar/jcmi-cultural-series-the-beetles-1651769989\n\
 nThe 29th Season of the Saul I. Stern Cultural Series at the JCMI.\n\n Pl
 ease call the office at 239-642-0800 to purchase tickets.
DTSTART;TZID=America/New_York:20230128T193000
DTEND;TZID=America/New_York:20230128T213000
END:VEVENT
END:VCALENDAR
