BEGIN:VCALENDAR
PRODID:-//eluceo/ical//2.0/EN
VERSION:2.0
CALSCALE:GREGORIAN
BEGIN:VEVENT
UID:258640cfdbf6acfc2f2388d876dd72ad
DTSTAMP:20260422T020713Z
SUMMARY:JCMI Cultural Series "Sinatra"
DESCRIPTION:Jewish Federation of Greater Naples\nCommunity Calendar\nhttps:
 //jewishnaples.org/calendar/jcmi-cultural-series-sinatra-1652108777\n\nThe
  29th Season of the Saul I. Stern Cultural Series at the JCMI.\n\nPlease c
 all the office at 239-642-0800 to purchase tickets.
DTSTART;TZID=America/New_York:20230218T193000
DTEND;TZID=America/New_York:20230218T213000
END:VEVENT
END:VCALENDAR
