BEGIN:VCALENDAR
PRODID:-//eluceo/ical//2.0/EN
VERSION:2.0
CALSCALE:GREGORIAN
BEGIN:VEVENT
UID:93e744363d58b591cef849059f9644f0
DTSTAMP:20260424T054506Z
SUMMARY:JCMI Cultural Series "Gulfshore Opera"
DESCRIPTION:Jewish Federation of Greater Naples\nCommunity Calendar\nhttps:
 //jewishnaples.org/calendar/jcmi-cultural-series-gulfshore-opera-165210905
 2\n\nThe 29th Season of the Saul I. Stern Cultural Series at the JCMI.\n\n
 Please call the office at 239-642-0800 to purchase tickets.
DTSTART;TZID=America/New_York:20230304T193000
DTEND;TZID=America/New_York:20230304T213000
END:VEVENT
END:VCALENDAR
