BEGIN:VCALENDAR
PRODID:-//eluceo/ical//2.0/EN
VERSION:2.0
CALSCALE:GREGORIAN
BEGIN:VEVENT
UID:8e2dc714e8943ae08a1fe357ada520e7
DTSTAMP:20260424T013156Z
SUMMARY:JCMI Cultural Series
DESCRIPTION:Jewish Federation of Greater Naples\nCommunity Calendar\nhttps:
 //jewishnaples.org/calendar/jcmi-cultural-series-1586190893\n\nJCMI\nCultu
 ral Series\n7:30 PM
DTSTART;TZID=America/New_York:20210116T193000
DTEND;TZID=America/New_York:20210116T213000
END:VEVENT
END:VCALENDAR
