BEGIN:VCALENDAR
PRODID:-//eluceo/ical//2.0/EN
VERSION:2.0
CALSCALE:GREGORIAN
BEGIN:VEVENT
UID:618ea35eb896672a9c69b9eb9f742b46
DTSTAMP:20260424T025758Z
SUMMARY:JCMI Cultural Series
DESCRIPTION:Jewish Federation of Greater Naples\nCommunity Calendar\nhttps:
 //jewishnaples.org/calendar/jcmi-cultural-series-1537209665\n\nJonathan Ka
 rl will be speaking.\nContact Jewish Congregation of Marco Island for tick
 ets.
DTSTART;TZID=America/New_York:20190105T193000
DTEND;TZID=America/New_York:20190105T213000
END:VEVENT
END:VCALENDAR
