BEGIN:VCALENDAR
PRODID:-//eluceo/ical//2.0/EN
VERSION:2.0
CALSCALE:GREGORIAN
BEGIN:VEVENT
UID:65f01366fc38fb54232554eb64017962
DTSTAMP:20260422T015746Z
SUMMARY:JCMI Congregational Passover Seider
DESCRIPTION:Jewish Federation of Greater Naples\nCommunity Calendar\nhttps:
 //jewishnaples.org/calendar/jcmi-congregational-passover-seider-1749073436
 \n\nJCMI Congregational Passover Seider
DTSTART;TZID=America/New_York:20260401T180000
DTEND;TZID=America/New_York:20260401T210000
END:VEVENT
END:VCALENDAR
