BEGIN:VCALENDAR
PRODID:-//eluceo/ical//2.0/EN
VERSION:2.0
CALSCALE:GREGORIAN
BEGIN:VEVENT
UID:0de0891d8ddef3557aac4c545d9a98f8
DTSTAMP:20260423T213640Z
SUMMARY:JCMI Community Chanukah Celebration
DESCRIPTION:Jewish Federation of Greater Naples\nCommunity Calendar\nhttps:
 //jewishnaples.org/calendar/jcmi-community-chanukah-celebration\n\nJCMI C
 ommunity Chanukah Celebration
DTSTART;TZID=America/New_York:20181209T174500
DTEND;TZID=America/New_York:20181209T200000
END:VEVENT
END:VCALENDAR
