BEGIN:VCALENDAR
PRODID:-//eluceo/ical//2.0/EN
VERSION:2.0
CALSCALE:GREGORIAN
BEGIN:VEVENT
UID:5f4b9227c7547102d3a9e7baa6efba04
DTSTAMP:20260420T035241Z
SUMMARY:JCMI Chanukah Celebration
DESCRIPTION:Jewish Federation of Greater Naples\nCommunity Calendar\nhttps:
 //jewishnaples.org/calendar/jcmi-chanukah-celebration\n\nJCMI \n\nCommuni
 ty Chanukah Celebration\n\n \n\nClick here to see the PDF.
DTSTART;TZID=America/New_York:20171217T173000
DTEND;TZID=America/New_York:20171217T193000
END:VEVENT
END:VCALENDAR
