BEGIN:VCALENDAR
PRODID:-//eluceo/ical//2.0/EN
VERSION:2.0
CALSCALE:GREGORIAN
BEGIN:VEVENT
UID:41c003bcf020314764880228c55d3148
DTSTAMP:20260422T010453Z
SUMMARY:JCMI Cemetery Visit
DESCRIPTION:Jewish Federation of Greater Naples\nCommunity Calendar\nhttps:
 //jewishnaples.org/calendar/jcmi-cemetery-visit-1686332392\n\nJCMI Cemeter
 y Visit
DTSTART;TZID=America/New_York:20230924T113000
DTEND;TZID=America/New_York:20230924T130000
END:VEVENT
END:VCALENDAR
