BEGIN:VCALENDAR
PRODID:-//eluceo/ical//2.0/EN
VERSION:2.0
CALSCALE:GREGORIAN
BEGIN:VEVENT
UID:fdf4ed9502b6b74917d05f1c73d3681f
DTSTAMP:20260420T144810Z
SUMMARY:JCMI Cantor's Sermon in Song
DESCRIPTION:Jewish Federation of Greater Naples\nCommunity Calendar\nhttps:
 //jewishnaples.org/calendar/jcmi-cantors-sermon-in-song1\n\nJCMI\nCantor's
  Sermon in Song\n7:30 PM
DTSTART;TZID=America/New_York:20210129T193000
DTEND;TZID=America/New_York:20210129T213000
END:VEVENT
END:VCALENDAR
