BEGIN:VCALENDAR
PRODID:-//eluceo/ical//2.0/EN
VERSION:2.0
CALSCALE:GREGORIAN
BEGIN:VEVENT
UID:1ee7c518b3bc913f037aa9235922df1a
DTSTAMP:20260420T155331Z
SUMMARY:JCMI Bridge at 1:00
DESCRIPTION:Jewish Federation of Greater Naples\nCommunity Calendar\nhttps:
 //jewishnaples.org/calendar/jcmi-bridge-at-100\n\nJCMI
DTSTART;TZID=America/New_York:20160706T130000
DTEND;TZID=America/New_York:20160706T153000
END:VEVENT
END:VCALENDAR
