BEGIN:VCALENDAR
PRODID:-//eluceo/ical//2.0/EN
VERSION:2.0
CALSCALE:GREGORIAN
BEGIN:VEVENT
UID:362af32dc01733784bfadd7ea6c5d2b4
DTSTAMP:20260423T201754Z
SUMMARY:JCMI Board Meeting
DESCRIPTION:Jewish Federation of Greater Naples\nCommunity Calendar\nhttps:
 //jewishnaples.org/calendar/jcmi-board-meeting-1558111205\n\nJCMI Board Me
 eting\n\nNo meetings in June and July
DTSTART;TZID=America/New_York:20190822T190000
DTEND;TZID=America/New_York:20190822T210000
END:VEVENT
END:VCALENDAR
