BEGIN:VCALENDAR
PRODID:-//eluceo/ical//2.0/EN
VERSION:2.0
CALSCALE:GREGORIAN
BEGIN:VEVENT
UID:8a98b38eaaaccff6c1215033df361333
DTSTAMP:20260423T091806Z
SUMMARY:JCMI Atlantic City Boys
DESCRIPTION:Jewish Federation of Greater Naples\nCommunity Calendar\nhttps:
 //jewishnaples.org/calendar/jcmi-atlantic-city-boys\n\nJCMI\n\nAtlantic Ci
 ty Boys
DTSTART;TZID=America/New_York:20190119T193000
DTEND;TZID=America/New_York:20190119T213000
END:VEVENT
END:VCALENDAR
