BEGIN:VCALENDAR
PRODID:-//eluceo/ical//2.0/EN
VERSION:2.0
CALSCALE:GREGORIAN
BEGIN:VEVENT
UID:41af652d87b07e27a55229cce5018d8a
DTSTAMP:20260422T180110Z
SUMMARY:JCMI Annual 4th of July BBQ
DESCRIPTION:Jewish Federation of Greater Naples\nCommunity Calendar\nhttps:
 //jewishnaples.org/calendar/jcmi-annual-4th-of-july-bbq-1651682455\n\nJoin
  JCMI for their Annual 4th of July Barbecue! Call the JCMI Office at 239-6
 42-0800 with your reservation and food selection. RSVP by Wednesday\, June
  29th\, 2022.\n\nDinner: $25 donation to feed needy Jewish families in Col
 lier County.
DTSTART;TZID=America/New_York:20220704T120000
DTEND;TZID=America/New_York:20220704T140000
END:VEVENT
END:VCALENDAR
