BEGIN:VCALENDAR
PRODID:-//eluceo/ical//2.0/EN
VERSION:2.0
CALSCALE:GREGORIAN
BEGIN:VEVENT
UID:77619a8f3a7ba02a4a9e52f1812ec84b
DTSTAMP:20260420T061244Z
SUMMARY:JCMI Alter Eagles Concert
DESCRIPTION:Jewish Federation of Greater Naples\nCommunity Calendar\nhttps:
 //jewishnaples.org/calendar/jcmi-alter-eagles-concert-1586191711\n\nJCMI\n
 Alter Eagles Concert\n7:30 PM
DTSTART;TZID=America/New_York:20210220T193000
DTEND;TZID=America/New_York:20210220T213000
END:VEVENT
END:VCALENDAR
