BEGIN:VCALENDAR
PRODID:-//eluceo/ical//2.0/EN
VERSION:2.0
CALSCALE:GREGORIAN
BEGIN:VEVENT
UID:2e16bd252112fe72a6386fe1dbea6b3e
DTSTAMP:20260422T122320Z
SUMMARY:JCMI  FILM FESTIVAL
DESCRIPTION:Jewish Federation of Greater Naples\nCommunity Calendar\nhttps:
 //jewishnaples.org/calendar/jcmi--film-festival-1563720905\n\nPalestinian 
 director Sameh Zoabi’s irreverent satire on the Arab-Israeli conflict fo
 llows Salam (Kais Nashif\,)\, a winsome slacker whose  uncle gets him a jo
 b on a sudsy Palestinian TV soap opera “Tel Aviv on Fire\,” popular wi
 th both Israelis and Palestinians. Salam’s daily commute from Jerusalem 
 to the Ramallah set through the Israeli checkpoint leads to regular encoun
 ters with the IDF officer in charge (Yaniv Biton\,). In order to gain his 
 favor\, Salaam allows the commander to...
DTSTART;TZID=America/New_York:20200112T140000
DTEND;TZID=America/New_York:20200112T160000
END:VEVENT
END:VCALENDAR
