BEGIN:VCALENDAR
PRODID:-//eluceo/ical//2.0/EN
VERSION:2.0
CALSCALE:GREGORIAN
BEGIN:VEVENT
UID:0f37b2fbd1160806ffaef60c90a56077
DTSTAMP:20260422T112442Z
SUMMARY:JCMI  FILM FESTIVAL
DESCRIPTION:Jewish Federation of Greater Naples\nCommunity Calendar\nhttps:
 //jewishnaples.org/calendar/jcmi--film-festival-1563720316\n\nThe story of
  a gifted and versatile entertainer and his life\, as a black man\, a Jew\
 , and an interracial copy.    Come and watch his talent\, his dancing from
  age 3\, his conversion to Judaism\, his comedy\, his acting and his singi
 ng.   He did it all.....and with apologies to his friend Frank Sinatra\, h
 e did HIS way. 
DTSTART;TZID=America/New_York:20191215T140000
DTEND;TZID=America/New_York:20191215T160000
END:VEVENT
END:VCALENDAR
