BEGIN:VCALENDAR
PRODID:-//eluceo/ical//2.0/EN
VERSION:2.0
CALSCALE:GREGORIAN
BEGIN:VEVENT
UID:a8ef848301974dc64f668b8b225962d8
DTSTAMP:20260424T072328Z
SUMMARY:JCMI - Rabbi Mark Gross's Life-Learning Series
DESCRIPTION:Jewish Federation of Greater Naples\nCommunity Calendar\nhttps:
 //jewishnaples.org/calendar/jcmi---rabbi-mark-grosss-life-learning-series-
 1749073270\n\nJCMI - Rabbi Mark Gross's Life-Learning Series
DTSTART;TZID=America/New_York:20260322T100000
DTEND;TZID=America/New_York:20260322T120000
END:VEVENT
END:VCALENDAR
