BEGIN:VCALENDAR
PRODID:-//eluceo/ical//2.0/EN
VERSION:2.0
CALSCALE:GREGORIAN
BEGIN:VEVENT
UID:3063157cb0dbe5f1bcf8a3a27edb5ac2
DTSTAMP:20260423T052552Z
SUMMARY:JCMI - Rabbi Mark Gross's Life-Learning Series
DESCRIPTION:Jewish Federation of Greater Naples\nCommunity Calendar\nhttps:
 //jewishnaples.org/calendar/jcmi---rabbi-mark-grosss-life-learning-series-
 1749073165\n\nJCMI - Rabbi Mark Gross's Life-Learning Series
DTSTART;TZID=America/New_York:20260222T100000
DTEND;TZID=America/New_York:20260222T120000
END:VEVENT
END:VCALENDAR
