BEGIN:VCALENDAR
PRODID:-//eluceo/ical//2.0/EN
VERSION:2.0
CALSCALE:GREGORIAN
BEGIN:VEVENT
UID:43efe1e702df9c6de4d8ac44a4178ca9
DTSTAMP:20260423T121633Z
SUMMARY:JCMI - Community Chanukah Event
DESCRIPTION:Jewish Federation of Greater Naples\nCommunity Calendar\nhttps:
 //jewishnaples.org/calendar/jcmi---community-chanukah-event-1749072786\n\n
 JCMI - Community Chanukah Event
DTSTART;TZID=America/New_York:20251221T173000
DTEND;TZID=America/New_York:20251221T193000
END:VEVENT
END:VCALENDAR
