BEGIN:VCALENDAR
PRODID:-//eluceo/ical//2.0/EN
VERSION:2.0
CALSCALE:GREGORIAN
BEGIN:VEVENT
UID:0852e7ddeb22b31c55653e3d1b5416ce
DTSTAMP:20260423T232756Z
SUMMARY:JCMI - Cemetery visit
DESCRIPTION:Jewish Federation of Greater Naples\nCommunity Calendar\nhttps:
 //jewishnaples.org/calendar/jcmi---cemetery-visit-1749071893\n\nJCMI - Cem
 etery visit
DTSTART;TZID=America/New_York:20250928T113000
DTEND;TZID=America/New_York:20250928T133000
END:VEVENT
END:VCALENDAR
