BEGIN:VCALENDAR
PRODID:-//eluceo/ical//2.0/EN
VERSION:2.0
CALSCALE:GREGORIAN
BEGIN:VEVENT
UID:2952310f70ded01f7cf4b14634834904
DTSTAMP:20260422T065118Z
SUMMARY:JCDL Day of Learning March 30
DESCRIPTION:Jewish Federation of Greater Naples\nCommunity Calendar\nhttps:
 //jewishnaples.org/calendar/jcdl-day-of-learning-march-30-1670597437\n\nDa
 y of Learning save
DTSTART;TZID=America/New_York:20230330T130000
DTEND;TZID=America/New_York:20230330T170000
END:VEVENT
END:VCALENDAR
