BEGIN:VCALENDAR
PRODID:-//eluceo/ical//2.0/EN
VERSION:2.0
CALSCALE:GREGORIAN
BEGIN:VEVENT
UID:486efdd15284f3cf66e40bcc1ac74f3a
DTSTAMP:20260423T122151Z
SUMMARY:JBF\, Stuart E. Eizenstat
DESCRIPTION:Jewish Federation of Greater Naples\nCommunity Calendar\nhttps:
 //jewishnaples.org/calendar/jbf-stuart-e-eizenstat\n\nJewish Book Festival
DTSTART;TZID=America/New_York:20250110T130000
DTEND;TZID=America/New_York:20250110T140000
END:VEVENT
END:VCALENDAR
