BEGIN:VCALENDAR
PRODID:-//eluceo/ical//2.0/EN
VERSION:2.0
CALSCALE:GREGORIAN
BEGIN:VEVENT
UID:303d4c8c22e2c8262c2ce60566bb88b5
DTSTAMP:20260420T154545Z
SUMMARY:JBF Preview Event
DESCRIPTION:Jewish Federation of Greater Naples\nCommunity Calendar\nhttps:
 //jewishnaples.org/calendar/jbf-preview-event-1654020670\n\nJewish Book Fe
 stival Preview Event on Zoom
DTSTART;TZID=America/New_York:20220929T140000
DTEND;TZID=America/New_York:20220929T160000
END:VEVENT
END:VCALENDAR
