BEGIN:VCALENDAR
PRODID:-//eluceo/ical//2.0/EN
VERSION:2.0
CALSCALE:GREGORIAN
BEGIN:VEVENT
UID:4737ea2eb8cc89ce17013fcbee1caf11
DTSTAMP:20260423T174522Z
SUMMARY:JBF Opening Event with Adam Nimoy
DESCRIPTION:Jewish Federation of Greater Naples\nCommunity Calendar\nhttps:
 //jewishnaples.org/calendar/jbf-opening-event-with-adam-nimoy\n\nJewish Bo
 ok Festival Opening Event
DTSTART;TZID=America/New_York:20241209T190000
DTEND;TZID=America/New_York:20241209T200000
END:VEVENT
END:VCALENDAR
