BEGIN:VCALENDAR
PRODID:-//eluceo/ical//2.0/EN
VERSION:2.0
CALSCALE:GREGORIAN
BEGIN:VEVENT
UID:2e383b3125e16d903650e6248a098576
DTSTAMP:20260422T221927Z
SUMMARY:JBF Opening Event
DESCRIPTION:Jewish Federation of Greater Naples\nCommunity Calendar\nhttps:
 //jewishnaples.org/calendar/jbf-opening-event\n\nJewish Book Festival begi
 ns with\n\nMitch Albom\n\nThe Little Liar\n\nPurchase Patron or individual
  tickets here
DTSTART;TZID=America/New_York:20231203T190000
DTEND;TZID=America/New_York:20231203T200000
END:VEVENT
END:VCALENDAR
