BEGIN:VCALENDAR
PRODID:-//eluceo/ical//2.0/EN
VERSION:2.0
CALSCALE:GREGORIAN
BEGIN:VEVENT
UID:cde83b2db4fcb95292ea1dad167fdafd
DTSTAMP:20260421T021219Z
SUMMARY:JBF Joshua Jay
DESCRIPTION:Jewish Federation of Greater Naples\nCommunity Calendar\nhttps:
 //jewishnaples.org/calendar/jbf-joshua-jay-1653057880\n\nJewish Book Festi
 val Joshua Jay!
DTSTART;TZID=America/New_York:20220722T120000
DTEND;TZID=America/New_York:20220722T140000
END:VEVENT
END:VCALENDAR
