BEGIN:VCALENDAR
PRODID:-//eluceo/ical//2.0/EN
VERSION:2.0
CALSCALE:GREGORIAN
BEGIN:VEVENT
UID:ac1f80d4c909e50f3632a103738da7b3
DTSTAMP:20260420T104419Z
SUMMARY:JBF Jewish Book Festival Nov 1
DESCRIPTION:Jewish Federation of Greater Naples\nCommunity Calendar\nhttps:
 //jewishnaples.org/calendar/jbf-jewish-book-festival-nov-3-1647974348\n\nJ
 BF Jewish Book Festival
DTSTART;TZID=America/New_York:20221101T130000
DTEND;TZID=America/New_York:20221101T140000
END:VEVENT
END:VCALENDAR
