BEGIN:VCALENDAR
PRODID:-//eluceo/ical//2.0/EN
VERSION:2.0
CALSCALE:GREGORIAN
BEGIN:VEVENT
UID:7b4d5528c4b879f5dd573deacc2adc4c
DTSTAMP:20260420T050458Z
SUMMARY:JBF Jewish Book Festival Nov 17
DESCRIPTION:Jewish Federation of Greater Naples\nCommunity Calendar\nhttps:
 //jewishnaples.org/calendar/jbf-jewish-book-festival-nov-17-1647974391\n\n
 JBF Jewish Book Festival
DTSTART;TZID=America/New_York:20221117T140000
DTEND;TZID=America/New_York:20221117T150000
END:VEVENT
END:VCALENDAR
