BEGIN:VCALENDAR
PRODID:-//eluceo/ical//2.0/EN
VERSION:2.0
CALSCALE:GREGORIAN
BEGIN:VEVENT
UID:d6c3dec7a93b93ba86d346900507e5ca
DTSTAMP:20260422T114833Z
SUMMARY:JBF Jewish Book Festival Jna. 11
DESCRIPTION:Jewish Federation of Greater Naples\nCommunity Calendar\nhttps:
 //jewishnaples.org/calendar/jbf-jewish-book-festival-jna-11\n\nJBF Jewish 
 Book Festival
DTSTART;TZID=America/New_York:20170111T130000
DTEND;TZID=America/New_York:20170111T153000
END:VEVENT
END:VCALENDAR
