BEGIN:VCALENDAR
PRODID:-//eluceo/ical//2.0/EN
VERSION:2.0
CALSCALE:GREGORIAN
BEGIN:VEVENT
UID:518c96196abeec5c4e5518b00bb42db4
DTSTAMP:20260424T012114Z
SUMMARY:JBF Jewish Book Festival Jan 20
DESCRIPTION:Jewish Federation of Greater Naples\nCommunity Calendar\nhttps:
 //jewishnaples.org/calendar/jbf-jewish-book-festival-jan-20\n\nJBF Jewish 
 Book Festival
DTSTART;TZID=America/New_York:20230120T100000
DTEND;TZID=America/New_York:20230120T110000
END:VEVENT
END:VCALENDAR
