BEGIN:VCALENDAR
PRODID:-//eluceo/ical//2.0/EN
VERSION:2.0
CALSCALE:GREGORIAN
BEGIN:VEVENT
UID:87ce65705d2dac1f791637200b70cd1d
DTSTAMP:20260422T135921Z
SUMMARY:JBF Jewish Book Festival Jan. 19
DESCRIPTION:Jewish Federation of Greater Naples\nCommunity Calendar\nhttps:
 //jewishnaples.org/calendar/jbf-jewish-book-festival-jan-19\n\nJBF Jewish 
 Book Festival
DTSTART;TZID=America/New_York:20170119T140000
DTEND;TZID=America/New_York:20170119T153000
END:VEVENT
END:VCALENDAR
