BEGIN:VCALENDAR
PRODID:-//eluceo/ical//2.0/EN
VERSION:2.0
CALSCALE:GREGORIAN
BEGIN:VEVENT
UID:1d463ad0eceab1218d27fbea39cd5cb8
DTSTAMP:20260420T045107Z
SUMMARY:JBF Jewish Book Festival Feb 1
DESCRIPTION:Jewish Federation of Greater Naples\nCommunity Calendar\nhttps:
 //jewishnaples.org/calendar/jbf-jewish-book-festival-feb-1-1647974662\n\nJ
 BF Jewish Book Festival
DTSTART;TZID=America/New_York:20230201T140000
DTEND;TZID=America/New_York:20230201T150000
END:VEVENT
END:VCALENDAR
