BEGIN:VCALENDAR
PRODID:-//eluceo/ical//2.0/EN
VERSION:2.0
CALSCALE:GREGORIAN
BEGIN:VEVENT
UID:552ac567bdbc98be132a57a03a31d045
DTSTAMP:20260422T143022Z
SUMMARY:JBF Jewish Book Festival  Feb 14
DESCRIPTION:Jewish Federation of Greater Naples\nCommunity Calendar\nhttps:
 //jewishnaples.org/calendar/jbf-jewish-book-festival--feb-14-1647974699\n\
 nJBF Jewish Book Festival
DTSTART;TZID=America/New_York:20230214T140000
DTEND;TZID=America/New_York:20230214T150000
END:VEVENT
END:VCALENDAR
