BEGIN:VCALENDAR
PRODID:-//eluceo/ical//2.0/EN
VERSION:2.0
CALSCALE:GREGORIAN
BEGIN:VEVENT
UID:b2f8221944fb22db964049f1135b4c71
DTSTAMP:20260422T195924Z
SUMMARY:JBF Jewish Book Festival
DESCRIPTION:Jewish Federation of Greater Naples\nCommunity Calendar\nhttps:
 //jewishnaples.org/calendar/jbf-jewish-book-festival\n\nJBF Jewish Book Fe
 stival\n\n 
DTSTART;TZID=America/New_York:20161213T110000
DTEND;TZID=America/New_York:20161213T143000
END:VEVENT
END:VCALENDAR
