BEGIN:VCALENDAR
PRODID:-//eluceo/ical//2.0/EN
VERSION:2.0
CALSCALE:GREGORIAN
BEGIN:VEVENT
UID:0b593adfdc9431f76d306fd674901d60
DTSTAMP:20260423T133407Z
SUMMARY:JBF event
DESCRIPTION:Jewish Federation of Greater Naples\nCommunity Calendar\nhttps:
 //jewishnaples.org/calendar/jbf-event-1562955316\n\nJewish Book Festival E
 vent
DTSTART;TZID=America/New_York:20191209T190000
DTEND;TZID=America/New_York:20191209T210000
END:VEVENT
END:VCALENDAR
