BEGIN:VCALENDAR
PRODID:-//eluceo/ical//2.0/EN
VERSION:2.0
CALSCALE:GREGORIAN
BEGIN:VEVENT
UID:7a824891729b9589179930bc2c89b9ca
DTSTAMP:20260422T155920Z
SUMMARY:JBF  Emily Franklin
DESCRIPTION:Jewish Federation of Greater Naples\nCommunity Calendar\nhttps:
 //jewishnaples.org/calendar/jbf-emily-franklin\n\nJewish Book Festival eve
 nt
DTSTART;TZID=America/New_York:20240403T103000
DTEND;TZID=America/New_York:20240403T113000
END:VEVENT
END:VCALENDAR
