BEGIN:VCALENDAR
PRODID:-//eluceo/ical//2.0/EN
VERSION:2.0
CALSCALE:GREGORIAN
BEGIN:VEVENT
UID:1d685ada35a85e31c7ac847f62edc8a8
DTSTAMP:20260424T052014Z
SUMMARY:JBF\, Daniel Schulman
DESCRIPTION:Jewish Federation of Greater Naples\nCommunity Calendar\nhttps:
 //jewishnaples.org/calendar/jbf-daniel-schulman\n\nJewish Book Festival
DTSTART;TZID=America/New_York:20250321T130000
DTEND;TZID=America/New_York:20250321T140000
END:VEVENT
END:VCALENDAR
