BEGIN:VCALENDAR
PRODID:-//eluceo/ical//2.0/EN
VERSION:2.0
CALSCALE:GREGORIAN
BEGIN:VEVENT
UID:91c265994d634e94e6f4e4d4f54f0a6c
DTSTAMP:20260423T031412Z
SUMMARY:JBF
DESCRIPTION:Jewish Federation of Greater Naples\nCommunity Calendar\nhttps:
 //jewishnaples.org/calendar/jbf-1560786160\n\nJewish Book Festival Event B
 uy your ticket at the JFGN office
DTSTART;TZID=America/New_York:20200113T130000
DTEND;TZID=America/New_York:20200113T150000
END:VEVENT
END:VCALENDAR
