BEGIN:VCALENDAR
PRODID:-//eluceo/ical//2.0/EN
VERSION:2.0
CALSCALE:GREGORIAN
BEGIN:VEVENT
UID:3e9d47ab692d92ddf9180414458ea8aa
DTSTAMP:20260423T061635Z
SUMMARY:JBF
DESCRIPTION:Jewish Federation of Greater Naples\nCommunity Calendar\nhttps:
 //jewishnaples.org/calendar/jbf-1559931107\n\nJewish Book Festival.\nCall 
 the office to order tickets!
DTSTART;TZID=America/New_York:20191111T130000
DTEND;TZID=America/New_York:20191111T150000
END:VEVENT
END:VCALENDAR
