BEGIN:VCALENDAR
PRODID:-//eluceo/ical//2.0/EN
VERSION:2.0
CALSCALE:GREGORIAN
BEGIN:VEVENT
UID:6e7b72ee4c124a2edd9906678a1c35c3
DTSTAMP:20260422T203918Z
SUMMARY:JBF
DESCRIPTION:Jewish Federation of Greater Naples\nCommunity Calendar\nhttps:
 //jewishnaples.org/calendar/jbf-1557947265\n\nJewish Book Festival.\nBuy y
 our tickets from the Jewish Federation of Greater Naples.
DTSTART;TZID=America/New_York:20200226T130000
DTEND;TZID=America/New_York:20200226T150000
END:VEVENT
END:VCALENDAR
