BEGIN:VCALENDAR
PRODID:-//eluceo/ical//2.0/EN
VERSION:2.0
CALSCALE:GREGORIAN
BEGIN:VEVENT
UID:b884a5921bb4988097242a7cc8521338
DTSTAMP:20260423T212205Z
SUMMARY:JBF
DESCRIPTION:Jewish Federation of Greater Naples\nCommunity Calendar\nhttps:
 //jewishnaples.org/calendar/jbf-1557947190\n\nJewish Book Festival.\nBuy y
 our tickets from the Jewish Federation of Greater Naples.
DTSTART;TZID=America/New_York:20200128T190000
DTEND;TZID=America/New_York:20200128T210000
END:VEVENT
END:VCALENDAR
