BEGIN:VCALENDAR
PRODID:-//eluceo/ical//2.0/EN
VERSION:2.0
CALSCALE:GREGORIAN
BEGIN:VEVENT
UID:cd6252faa1a55d5157bb9857b84388db
DTSTAMP:20260419T211015Z
SUMMARY:JFGN It's a coffee klatch on Zoom for the stay at home parent!
DESCRIPTION:Jewish Federation of Greater Naples\nCommunity Calendar\nhttps:
 //jewishnaples.org/calendar/its-a-coffee-klatch-for-the-stay-at-home-paren
 t-1630348863\n\nAre you a stay at home parent with little children? Well\,
  there's strength in numbers! Zoom on in\, put up your feet...maybe on you
 r coffee table!\nWe will be zooming into your kitchen\, den\, or wherever 
 you have your computer so you can share your stories\, triumphs\, worries\
 , recommendations and get opinions on just about anything. You never know 
 you you may find (like a new best friend) or find out (like the name of a 
 good ENT doctor!)
DTSTART;TZID=America/New_York:20211001T100000
DTEND;TZID=America/New_York:20211001T110000
END:VEVENT
END:VCALENDAR
