BEGIN:VCALENDAR
PRODID:-//eluceo/ical//2.0/EN
VERSION:2.0
CALSCALE:GREGORIAN
BEGIN:VEVENT
UID:2a6e9f5cb7f726d5dc6cb11472f995a9
DTSTAMP:20260422T124254Z
SUMMARY:Italy and the Non-Jewish Response to the Holocaust
DESCRIPTION:Jewish Federation of Greater Naples\nCommunity Calendar\nhttps:
 //jewishnaples.org/calendar/italy-and-the-non-jewish-response-to-the-holoc
 aust-1734286691\n\nThursday\, January 23\, 2025\n“Italy and the Non-Jewi
 sh Response to the Holocaust”\nDr. Myriam Swennen Ruthenberg\nNaples Hil
 ton\n\nLimited Registration Availability for Lecture/Luncheon\n\nThis Lunc
 heon is part one of a three -part collaborative event between ICS\, the Je
 wish Federation of Greater Naples\, and the Holocaust Museum and Cohen Edu
 cational Center commemorating International Holocaust Remembrance Day. The
  theme of the overall event is the role Italians played in saving Jewish I
 ta...
DTSTART;TZID=America/New_York:20250123T113000
DTEND;TZID=America/New_York:20250123T143000
END:VEVENT
END:VCALENDAR
