BEGIN:VCALENDAR
PRODID:-//eluceo/ical//2.0/EN
VERSION:2.0
CALSCALE:GREGORIAN
BEGIN:VEVENT
UID:94827128c4a3de231b911b71a5f7ce4d
DTSTAMP:20260420T164108Z
SUMMARY:Israel Tennis Center in 2020
DESCRIPTION:Jewish Federation of Greater Naples\nCommunity Calendar\nhttps:
 //jewishnaples.org/calendar/israel-tennis-center-in-2020\n\nIsrael Tennis 
 Center program\nMore information coming soon!
DTSTART;TZID=America/New_York:20200305T150000
DTEND;TZID=America/New_York:20200305T190000
END:VEVENT
END:VCALENDAR
