BEGIN:VCALENDAR
PRODID:-//eluceo/ical//2.0/EN
VERSION:2.0
CALSCALE:GREGORIAN
BEGIN:VEVENT
UID:948ba3c6c70c4a257cede34328f80204
DTSTAMP:20260422T100254Z
SUMMARY:Israel Singers & Dancers
DESCRIPTION:Jewish Federation of Greater Naples\nCommunity Calendar\nhttps:
 //jewishnaples.org/calendar/israel-singers-dancers\n\nThe Israel Scout Fri
 endship Caravan is coming to sing and dance at Temple Shalom at 7 PM.\n\nF
 ree admission.\n\nCo sponsors: Jewish Federation of Greater Naples and Tem
 ple Shalom
DTSTART;TZID=America/New_York:20180619T190000
DTEND;TZID=America/New_York:20180619T200000
END:VEVENT
END:VCALENDAR
