BEGIN:VCALENDAR
PRODID:-//eluceo/ical//2.0/EN
VERSION:2.0
CALSCALE:GREGORIAN
BEGIN:VEVENT
UID:a8f9c8116890d8dde4be39a569d4058d
DTSTAMP:20260423T182458Z
SUMMARY:Israel Scouts
DESCRIPTION:Jewish Federation of Greater Naples\nCommunity Calendar\nhttps:
 //jewishnaples.org/calendar/israel-scouts-6-19-17\n\nJoin us at this fun p
 erformance! Free to the entire community. No RSVP required for this free 
 event!\n\nIsraeli singers\, dancers & entertainers\n\nMonday\, June 19 at 
 7:00 p.m.\n\nNew Hope Ministries\, 7675 Davis Blvd.\, Naples\n\n \n\n \n
 \n\nThe Israel Scouts Friendship Caravan is made up of five girls\, five b
 oys and two Caravan leaders from all over Israel. In order to be in the Ca
 ravan\, these teenagers (16 and 17 years old) went through a highly compet
 itive selection process and were chose...
DTSTART;TZID=America/New_York:20170619T190000
DTEND;TZID=America/New_York:20170619T210000
END:VEVENT
END:VCALENDAR
