BEGIN:VCALENDAR
PRODID:-//eluceo/ical//2.0/EN
VERSION:2.0
CALSCALE:GREGORIAN
BEGIN:VEVENT
UID:c06932957efcc23128470fac7b105a60
DTSTAMP:20260422T212130Z
SUMMARY:Israel Advocacy Committee meetings
DESCRIPTION:Jewish Federation of Greater Naples\nCommunity Calendar\nhttps:
 //jewishnaples.org/calendar/israel-advocacy-committee-meetings\n\nThe Isra
 el Advocacy Committee meets on the 2nd Thursday of each month at 9 am at t
 he JFCC.
DTSTART;TZID=America/New_York:20170511T090000
DTEND;TZID=America/New_York:20170511T100000
END:VEVENT
END:VCALENDAR
