BEGIN:VCALENDAR
PRODID:-//eluceo/ical//2.0/EN
VERSION:2.0
CALSCALE:GREGORIAN
BEGIN:VEVENT
UID:336f0647d15ff5fb9529b68b09ff8150
DTSTAMP:20260423T203641Z
SUMMARY:IOC Speaker\, Peter Geffen
DESCRIPTION:Jewish Federation of Greater Naples\nCommunity Calendar\nhttps:
 //jewishnaples.org/calendar/ioc-speaker-peter-geffen-1707840333\n\n
DTSTART;TZID=America/New_York:20250121T160000
DTEND;TZID=America/New_York:20250121T170000
END:VEVENT
END:VCALENDAR
